BEGIN:VCALENDAR
VERSION:2.0
PRODID:-//www.sixtyandbetter.org//NONSGML kigkonsult.se iCalcreator 2.30.10
 //
CALSCALE:GREGORIAN
METHOD:PUBLISH
UID:2e36ffde-33ab-4562-9329-4a581745a50d
X-WR-CALDESC:
X-WR-RELCALID:843f6aec00ba9b8af77ca3ef628103ca
X-WR-TIMEZONE:America/Chicago
BEGIN:VTIMEZONE
TZID:America/Chicago
BEGIN:STANDARD
TZNAME:CST
DTSTART:20231105T020000
TZOFFSETFROM:-0500
TZOFFSETTO:-0600
RDATE:20241103T020000
RDATE:20251102T020000
END:STANDARD
BEGIN:DAYLIGHT
TZNAME:CDT
DTSTART:20240310T020000
TZOFFSETFROM:-0600
TZOFFSETTO:-0500
RDATE:20250309T020000
END:DAYLIGHT
END:VTIMEZONE
BEGIN:VEVENT
UID:290530bf-f751-43bb-afe5-921971dfd631
DTSTAMP:20260423T205147Z
DESCRIPTION:
DTSTART;TZID=America/Chicago:20240821T150000
DTEND;TZID=America/Chicago:20240821T160000
LOCATION:6201 Plaza Pkwy\, Fort Worth\, TX 76116 US
SUMMARY:Mobile Arts Lab - Brookdale Westover Hills AL
END:VEVENT
END:VCALENDAR
